BEGIN:VCALENDAR
VERSION:2.0
PRODID:-//Plone.org//NONSGML plone.app.event//EN
X-WR-TIMEZONE:Europe/Madrid
BEGIN:VEVENT
SUMMARY:Ball a l'Ateneu organitzat per l'Esplai de la Gent gran
DTSTART;TZID=Europe/Madrid;VALUE=DATE-TIME:20251221T180000
DTEND;TZID=Europe/Madrid;VALUE=DATE-TIME:20251221T190000
DTSTAMP;VALUE=DATE-TIME:20260422T023601Z
UID:bbd2eba9b4170def2a5603ed4f4ecfa0
CREATED;VALUE=DATE-TIME:20251221T000000Z
CATEGORIES:Ball,Gent Gran
LOCATION:Teatre Ateneu, Sala Gran - Germà Emilià, s/n
ORGANIZER:Esplai Gent Gran
COMMENT:Preu: 8 &euro; socis. 10 &euro; no socis.
Durada: 3 hores
URL:https://www.santceloni.cat/document.php?id=34590
END:VEVENT
END:VCALENDAR