BEGIN:VCALENDAR
VERSION:2.0
PRODID:-//Plone.org//NONSGML plone.app.event//EN
X-WR-TIMEZONE:Europe/Madrid
BEGIN:VEVENT
SUMMARY:Posa't les vambes: III Caminada popular solidària contra el càncer organitzat per Juntes
DTSTART;TZID=Europe/Madrid;VALUE=DATE-TIME:20251019T093000
DTEND;TZID=Europe/Madrid;VALUE=DATE-TIME:20251019T103000
DTSTAMP;VALUE=DATE-TIME:20260421T212655Z
UID:7a43b1d7dd80c9cc33c3e12115515f95
CREATED;VALUE=DATE-TIME:20251019T000000Z
CATEGORIES:Solidaritat
LOCATION:Rectoria Vella - Parc de la Rectoria Vella, s/n
ORGANIZER:Juntes Sant Celoni i La Batllòria
COMMENT:Preu: 10 
DESCRIPTION:Organitzada per Juntes a benefici de l'AECC
URL:https://www.santceloni.cat/document.php?id=34593
END:VEVENT
END:VCALENDAR