BEGIN:VCALENDAR
VERSION:2.0
PRODID:-//Plone.org//NONSGML plone.app.event//EN
X-WR-TIMEZONE:Europe/Madrid
BEGIN:VEVENT
SUMMARY:Les aus de les Llobateres. Diverses activitats coincidint amb el dia mundial dels Ocells
DTSTART;TZID=Europe/Madrid;VALUE=DATE-TIME:20251005T090000
DTEND;TZID=Europe/Madrid;VALUE=DATE-TIME:20251005T100000
DTSTAMP;VALUE=DATE-TIME:20260421T174206Z
UID:edd36eed4759db682aab845681fa12b7
CREATED;VALUE=DATE-TIME:20251005T000000Z
CATEGORIES:Natura
LOCATION:Les Llobateres
ORGANIZER:SEO BirdLife
COMMENT:Preu: Activitats gratuïtes
Durada: de 9 a 13 h
DESCRIPTION:Anellament científic d'ocells, ruta interpretativa guiada i accions de restauració
URL:https://www.santceloni.cat/document.php?id=34596
END:VEVENT
END:VCALENDAR