BEGIN:VCALENDAR
VERSION:2.0
PRODID:-//Plone.org//NONSGML plone.app.event//EN
X-WR-TIMEZONE:Europe/Madrid
BEGIN:VEVENT
SUMMARY:Xerrada divulgativa amb Joan Grivé: El bosc no té Insta, però té stories millors que les teves
DTSTART;TZID=Europe/Madrid;VALUE=DATE-TIME:20251024T093000
DTEND;TZID=Europe/Madrid;VALUE=DATE-TIME:20251024T103000
DTSTAMP;VALUE=DATE-TIME:20260421T202222Z
UID:63caafa8b81c66b53c85cba73e8ad352
CREATED;VALUE=DATE-TIME:20251024T000000Z
CATEGORIES:Conferència,Natura
LOCATION:Teatre Ateneu, Sala Gran - Germà Emilià, s/n
ORGANIZER:Associació de Propietaris Forestals del Montnegre i Corredor
DESCRIPTION:Setmana del Bosc 2025
URL:https://www.santceloni.cat/document.php?id=34607
END:VEVENT
END:VCALENDAR