BEGIN:VCALENDAR
VERSION:2.0
PRODID:-//Plone.org//NONSGML plone.app.event//EN
X-WR-TIMEZONE:Europe/Madrid
BEGIN:VEVENT
SUMMARY:Actes de dissabte 8 de novembre - Festes de Sant Martí 2025
DTSTART;TZID=Europe/Madrid;VALUE=DATE-TIME:20251108T000000
DTEND;TZID=Europe/Madrid;VALUE=DATE-TIME:20251108T010000
DTSTAMP;VALUE=DATE-TIME:20260421T172851Z
UID:02a445ff08954aa8b7b486a7b4987048
CREATED;VALUE=DATE-TIME:20251108T000000Z
CATEGORIES:Cultura,Festa
URL:https://www.santceloni.cat/document.php?id=34623
END:VEVENT
END:VCALENDAR