BEGIN:VCALENDAR
VERSION:2.0
PRODID:-//Plone.org//NONSGML plone.app.event//EN
X-WR-TIMEZONE:Europe/Madrid
BEGIN:VEVENT
SUMMARY:Visita guiada al Pertegàs i la Força. Un passeig per Sant Celoni medieval
DTSTART;TZID=Europe/Madrid;VALUE=DATE-TIME:20251011T180000
DTEND;TZID=Europe/Madrid;VALUE=DATE-TIME:20251011T190000
DTSTAMP;VALUE=DATE-TIME:20260421T160352Z
UID:99b49ae5a798fa919b0c266a3c1df4e0
CREATED;VALUE=DATE-TIME:20251011T000000Z
CATEGORIES:Patrimoni,Visita guiada
LOCATION:Parc de la Rectoria Vella - Parc de la Rectoria Vella
ORGANIZER:Ajuntament de Sant Celoni
COMMENT:Preu: Activitat gratuïta
URL:https://www.santceloni.cat/document.php?id=34647
END:VEVENT
END:VCALENDAR