BEGIN:VCALENDAR
VERSION:2.0
PRODID:-//Plone.org//NONSGML plone.app.event//EN
X-WR-TIMEZONE:Europe/Madrid
BEGIN:VEVENT
SUMMARY:Xerrada: Per què la pobresa és femenina?
DTSTART;TZID=Europe/Madrid;VALUE=DATE-TIME:20080918T193000
DTEND;TZID=Europe/Madrid;VALUE=DATE-TIME:20080918T203000
DTSTAMP;VALUE=DATE-TIME:20260422T161138Z
UID:67577668d909a83dc00b802405aa6a61
CREATED;VALUE=DATE-TIME:20080918T000000Z
CATEGORIES:Conferència
LOCATION:Aula de Cultura Caixa de Manlleu,  c/ Sant Josep, 87
ORGANIZER:Ajuda en Acció
COMMENT:Preu: gratuït
DESCRIPTION:En el marc de la campanya Vallès en Acció
URL:https://www.santceloni.cat/document.php?id=3466
END:VEVENT
END:VCALENDAR