BEGIN:VCALENDAR
VERSION:2.0
PRODID:-//Plone.org//NONSGML plone.app.event//EN
X-WR-TIMEZONE:Europe/Madrid
BEGIN:VEVENT
SUMMARY:Activitat del CESC: del port de Fornells de Begur a Tamariu i/o Calella de Palafrugell
DTSTART;TZID=Europe/Madrid;VALUE=DATE-TIME:20251012T070000
DTEND;TZID=Europe/Madrid;VALUE=DATE-TIME:20251012T080000
DTSTAMP;VALUE=DATE-TIME:20260421T225203Z
UID:a8c569b2f3179db3e60342fc7d405138
CREATED;VALUE=DATE-TIME:20251012T000000Z
CATEGORIES:Esports,Natura
LOCATION:Plaça 1 d'Octubre - Plaça 1 d'Octubre
ORGANIZER:Senders - Centre Excursionista de Sant Celoni
COMMENT:Preu: Soci 18 &euro;, No Soci 25 &euro;
URL:https://www.santceloni.cat/document.php?id=34675
END:VEVENT
END:VCALENDAR