BEGIN:VCALENDAR
VERSION:2.0
PRODID:-//Plone.org//NONSGML plone.app.event//EN
X-WR-TIMEZONE:Europe/Madrid
BEGIN:VEVENT
SUMMARY:Vine a seguir en directe la participació del grup 9K'S de l'Escola de Dansa Esther Cortés a Eufòria Dance Kids de TV3
DTSTART;TZID=Europe/Madrid;VALUE=DATE-TIME:20251017T220000
DTEND;TZID=Europe/Madrid;VALUE=DATE-TIME:20251017T230000
DTSTAMP;VALUE=DATE-TIME:20260422T023505Z
UID:da09210f4739e6caaf0f8266549d57ab
CREATED;VALUE=DATE-TIME:20251017T000000Z
LOCATION:Teatre Ateneu, Sala Lluís Giró - Germà Emilià, s/n
COMMENT:Preu: Gratuït
URL:https://www.santceloni.cat/document.php?id=34727
END:VEVENT
END:VCALENDAR