BEGIN:VCALENDAR
VERSION:2.0
PRODID:-//Plone.org//NONSGML plone.app.event//EN
X-WR-TIMEZONE:Europe/Madrid
BEGIN:VEVENT
SUMMARY:Gran Recapte d'aliments per ajudar a famílies de Sant Celoni
DTSTART;TZID=Europe/Madrid;VALUE=DATE-TIME:20251108T000000
DTEND;TZID=Europe/Madrid;VALUE=DATE-TIME:20251108T010000
DTSTAMP;VALUE=DATE-TIME:20260422T053115Z
UID:3ecb147f583662f04e253efe9414cbfd
CREATED;VALUE=DATE-TIME:20251107T000000Z
CATEGORIES:Solidaritat
LOCATION:Supermercats de Sant Celoni
COMMENT:Durada: Tot el dia
DESCRIPTION:Banc d'aliments. Lluitem contra la fam d'aquí
URL:https://www.santceloni.cat/document.php?id=34805
END:VEVENT
END:VCALENDAR