BEGIN:VCALENDAR
VERSION:2.0
PRODID:-//Plone.org//NONSGML plone.app.event//EN
X-WR-TIMEZONE:Europe/Madrid
BEGIN:VEVENT
SUMMARY:Festa Major d'Hivern de la Batllòria: inauguració Parc del Camí Ral, Correfoc amb les Espurnes del Montseny, animació familiar i disco mòbil
DTSTART;TZID=Europe/Madrid;VALUE=DATE-TIME:20251212T000000
DTEND;TZID=Europe/Madrid;VALUE=DATE-TIME:20251212T010000
DTSTAMP;VALUE=DATE-TIME:20260423T082645Z
UID:4a6b6ab2fd7f84f2ac7a55dfb160e3f3
CREATED;VALUE=DATE-TIME:20251212T000000Z
CATEGORIES:Festa Major
LOCATION:La Batllòria
URL:https://www.santceloni.cat/document.php?id=34867
END:VEVENT
END:VCALENDAR