BEGIN:VCALENDAR
VERSION:2.0
PRODID:-//Plone.org//NONSGML plone.app.event//EN
X-WR-TIMEZONE:Europe/Madrid
BEGIN:VEVENT
SUMMARY:Nadales amb els Cantaires i el grup d'acordionistes Manxing Band
DTSTART;TZID=Europe/Madrid;VALUE=DATE-TIME:20251223T190000
DTEND;TZID=Europe/Madrid;VALUE=DATE-TIME:20251223T200000
DTSTAMP;VALUE=DATE-TIME:20260422T001606Z
UID:c7560c48e811b3b2903c9e9d10906fc4
CREATED;VALUE=DATE-TIME:20251223T000000Z
LOCATION:Carrer Major de Dalt - Barri Vilanova - Carrer Major de Dalt - Barri Vilanova
ORGANIZER:Grup de Cantaires de Sant Celoni
URL:https://www.santceloni.cat/document.php?id=34880
END:VEVENT
END:VCALENDAR