BEGIN:VCALENDAR
VERSION:2.0
PRODID:-//Plone.org//NONSGML plone.app.event//EN
X-WR-TIMEZONE:Europe/Madrid
BEGIN:VEVENT
SUMMARY:Campament dels Carters Reials a Sant Celoni 2026
DTSTART;TZID=Europe/Madrid;VALUE=DATE-TIME:20260104T170000
DTEND;TZID=Europe/Madrid;VALUE=DATE-TIME:20260104T180000
DTSTAMP;VALUE=DATE-TIME:20260421T213524Z
UID:337b6a51343a43a8f06adff31d32233a
CREATED;VALUE=DATE-TIME:20260102T000000Z
LOCATION:Recinte medieval de la Força (entrada pel c. Les Valls) - Carrer Les Valls, 24-26
ORGANIZER:AEiG Erol
COMMENT:Durada: De 5 a 8 del vespre (a 2/4 de 8 del vespre es tancarà la cua)
URL:https://www.santceloni.cat/document.php?id=34897
END:VEVENT
END:VCALENDAR