BEGIN:VCALENDAR
VERSION:2.0
PRODID:-//Plone.org//NONSGML plone.app.event//EN
X-WR-TIMEZONE:Europe/Madrid
BEGIN:VEVENT
SUMMARY:Fira de Nadal amb més de 120 parades, tallers nadalencs, música, personatges, llums de Nadal i tions
DTSTART;TZID=Europe/Madrid;VALUE=DATE-TIME:20251207T000000
DTEND;TZID=Europe/Madrid;VALUE=DATE-TIME:20251207T010000
DTSTAMP;VALUE=DATE-TIME:20260422T092429Z
UID:7319da9a30c97d575af0f1a3eee2d732
CREATED;VALUE=DATE-TIME:20251207T000000Z
CATEGORIES:Comerç,Festa
LOCATION:Al centre de la Vila
COMMENT:Durada: Tot el dia
URL:https://www.santceloni.cat/document.php?id=34908
END:VEVENT
END:VCALENDAR