BEGIN:VCALENDAR
VERSION:2.0
PRODID:-//Plone.org//NONSGML plone.app.event//EN
X-WR-TIMEZONE:Europe/Madrid
BEGIN:VEVENT
SUMMARY:Inauguració de l'escultura Arrelar, de Núria Rossell a la plaça de la Colònia del Pla de Palau
DTSTART;TZID=Europe/Madrid;VALUE=DATE-TIME:20251130T120000
DTEND;TZID=Europe/Madrid;VALUE=DATE-TIME:20251130T130000
DTSTAMP;VALUE=DATE-TIME:20260421T173503Z
UID:36549493143dc266569e5cfc598a8e94
CREATED;VALUE=DATE-TIME:20251130T000000Z
CATEGORIES:Cultura
LOCATION:Plaça de la Colònia del Pla de Palau
DESCRIPTION:Escultura seleccionada en la convocatòria del projecte d'intervenció artística permanent de "Bosc i sentits 2023"
URL:https://www.santceloni.cat/document.php?id=34921
END:VEVENT
END:VCALENDAR