BEGIN:VCALENDAR
VERSION:2.0
PRODID:-//Plone.org//NONSGML plone.app.event//EN
X-WR-TIMEZONE:Europe/Madrid
BEGIN:VEVENT
SUMMARY:Circ de Nadal Les noces de Tituró a càrrec de la Cia. La Tête
DTSTART;TZID=Europe/Madrid;VALUE=DATE-TIME:20260103T000000
DTEND;TZID=Europe/Madrid;VALUE=DATE-TIME:20260103T010000
DTSTAMP;VALUE=DATE-TIME:20260422T011422Z
UID:ecba7b8dbb99c7eda0d304f8e8609bb7
CREATED;VALUE=DATE-TIME:20260103T000000Z
LOCATION:Pista de sorra del Pavelló Municipal d'Esports 11 de setembre
ORGANIZER:Cia. La Tête
COMMENT:Preu: Entrada general 14  - Infantil 10  
URL:https://www.santceloni.cat/document.php?id=34930
END:VEVENT
END:VCALENDAR