BEGIN:VCALENDAR
VERSION:2.0
PRODID:-//Plone.org//NONSGML plone.app.event//EN
X-WR-TIMEZONE:Europe/Madrid
BEGIN:VEVENT
SUMMARY:Ioga i meditació al Pavelló Sot de les Granotes a benefici de La Marató
DTSTART;TZID=Europe/Madrid;VALUE=DATE-TIME:20251212T180000
DTEND;TZID=Europe/Madrid;VALUE=DATE-TIME:20251212T190000
DTSTAMP;VALUE=DATE-TIME:20260424T091629Z
UID:a5784e89cb85366bffa3fa47980f5a2b
CREATED;VALUE=DATE-TIME:20251212T000000Z
CATEGORIES:Esports,Solidaritat
LOCATION:Centre Municipal d'Esports Sot de les Granotes - Francesc Macià, 15
COMMENT:Preu: Donatiu 2 &euro;
Durada: De 18 a 20 h
DESCRIPTION:Namasté Nadalenc
URL:https://www.santceloni.cat/document.php?id=34955
END:VEVENT
END:VCALENDAR