BEGIN:VCALENDAR
VERSION:2.0
PRODID:-//Plone.org//NONSGML plone.app.event//EN
X-WR-TIMEZONE:Europe/Madrid
BEGIN:VEVENT
SUMMARY:Lectura dramatitzada:The Ferryman amb Trocateatre
DTSTART;TZID=Europe/Madrid;VALUE=DATE-TIME:20260124T200000
DTEND;TZID=Europe/Madrid;VALUE=DATE-TIME:20260124T210000
DTSTAMP;VALUE=DATE-TIME:20260422T045649Z
UID:b57ae4cc4b3f2a54dea749aa58119f40
CREATED;VALUE=DATE-TIME:20260124T000000Z
CATEGORIES:Teatre
LOCATION:Teatre Ateneu, Sala Gran - Germà Emilià, s/n
COMMENT:Preu: 8 
Durada: 180 minuts
DESCRIPTION:Programació Teatre Ateneu
URL:https://www.santceloni.cat/document.php?id=34981
END:VEVENT
END:VCALENDAR