BEGIN:VCALENDAR
VERSION:2.0
PRODID:-//Plone.org//NONSGML plone.app.event//EN
X-WR-TIMEZONE:Europe/Madrid
BEGIN:VEVENT
SUMMARY:Dansa: Mostra de dansa de Margarita Ponce Estudi de Dansa
DTSTART;TZID=Europe/Madrid;VALUE=DATE-TIME:20260620T180000
DTEND;TZID=Europe/Madrid;VALUE=DATE-TIME:20260620T190000
DTSTAMP;VALUE=DATE-TIME:20260422T071457Z
UID:b43eed23bb78a05564c74059f4bccb46
CREATED;VALUE=DATE-TIME:20260620T000000Z
CATEGORIES:Dansa
LOCATION:Teatre Ateneu, Sala Lluís Giró - Germà Emilià, s/n
ORGANIZER:Associació Neurològica Baix Montseny
COMMENT:Preu: 4 
Durada: 40 minuts
DESCRIPTION:Programació Teatre Ateneu
URL:https://www.santceloni.cat/document.php?id=35051
END:VEVENT
END:VCALENDAR