BEGIN:VCALENDAR
VERSION:2.0
PRODID:-//Plone.org//NONSGML plone.app.event//EN
X-WR-TIMEZONE:Europe/Madrid
BEGIN:VEVENT
SUMMARY:Petita hora del conte: contes per menuts
DTSTART;TZID=Europe/Madrid;VALUE=DATE-TIME:20081025T113000
DTEND;TZID=Europe/Madrid;VALUE=DATE-TIME:20081025T123000
DTSTAMP;VALUE=DATE-TIME:20260422T143814Z
UID:f59d3854b6efb8230a19927b3326b757
CREATED;VALUE=DATE-TIME:20081025T000000Z
CATEGORIES:Literatura,Infantils
LOCATION:Biblioteca l'Escorxador
DESCRIPTION:En Cigró amb Txo Titelles, sessió per a nenes i nens de 0 a 4 anys
URL:https://www.santceloni.cat/document.php?id=3506
END:VEVENT
END:VCALENDAR