BEGIN:VCALENDAR
VERSION:2.0
PRODID:-//Plone.org//NONSGML plone.app.event//EN
X-WR-TIMEZONE:Europe/Madrid
BEGIN:VEVENT
SUMMARY:Xerrada: Feng Shui, a càrrec de l'Associació Aurigues al Sax Sala
DTSTART;TZID=Europe/Madrid;VALUE=DATE-TIME:20260127T190000
DTEND;TZID=Europe/Madrid;VALUE=DATE-TIME:20260127T200000
DTSTAMP;VALUE=DATE-TIME:20260423T190739Z
UID:409725be6a2c1c1804f7cb319d5b99b0
CREATED;VALUE=DATE-TIME:20260127T000000Z
CATEGORIES:Entitats,Salut,Sax Sala
LOCATION:Sax Sala - Montserrat, 28
ORGANIZER:Associació Aurigues
COMMENT:Preu: Gratuït
Durada: De 19 a 21 h
DESCRIPTION:Més enllà dels amulets i els rituals. Quan deixes de moure objectes i comences a moure't tu, tot canvia
URL:https://www.santceloni.cat/document.php?id=35065
END:VEVENT
END:VCALENDAR