BEGIN:VCALENDAR
VERSION:2.0
PRODID:-//Plone.org//NONSGML plone.app.event//EN
X-WR-TIMEZONE:Europe/Madrid
BEGIN:VEVENT
SUMMARY:Sortida del CESC 100 CIMS a Miranda de Puigcerver
DTSTART;TZID=Europe/Madrid;VALUE=DATE-TIME:20260124T070000
DTEND;TZID=Europe/Madrid;VALUE=DATE-TIME:20260124T080000
DTSTAMP;VALUE=DATE-TIME:20260422T115504Z
UID:bb76603be044bab90264035bce8f4a32
CREATED;VALUE=DATE-TIME:20260124T000000Z
CATEGORIES:Esports,Natura
LOCATION:Benzinera Repsol, Sant Celoni
ORGANIZER:Centre Excursionista de Sant Celoni
URL:https://www.santceloni.cat/document.php?id=35089
END:VEVENT
END:VCALENDAR