BEGIN:VCALENDAR
VERSION:2.0
PRODID:-//Plone.org//NONSGML plone.app.event//EN
X-WR-TIMEZONE:Europe/Madrid
BEGIN:VEVENT
SUMMARY:Reunió Carnestoltes 2026 a la Batllòria! Espai de debat obert. T'hi esperem!
DTSTART;TZID=Europe/Madrid;VALUE=DATE-TIME:20260121T190500
DTEND;TZID=Europe/Madrid;VALUE=DATE-TIME:20260121T200500
DTSTAMP;VALUE=DATE-TIME:20260422T115450Z
UID:2c6a90a00a97ad5bc442e8d737d14f37
CREATED;VALUE=DATE-TIME:20260121T000000Z
CATEGORIES:La Batllòria,Participació
LOCATION:Unió Batllorienca - c. Breda, 2
URL:https://www.santceloni.cat/document.php?id=35107
END:VEVENT
END:VCALENDAR