BEGIN:VCALENDAR
VERSION:2.0
PRODID:-//Plone.org//NONSGML plone.app.event//EN
X-WR-TIMEZONE:Europe/Madrid
BEGIN:VEVENT
SUMMARY:Presentació del llibre Retrats del Baix Montseny, amb l'autor Jordi Sibina a la Biblioteca l'Escorxador
DTSTART;TZID=Europe/Madrid;VALUE=DATE-TIME:20260227T183000
DTEND;TZID=Europe/Madrid;VALUE=DATE-TIME:20260227T193000
DTSTAMP;VALUE=DATE-TIME:20260422T191053Z
UID:30ea96dd921d7f8b4cf1c4a75d8827e4
CREATED;VALUE=DATE-TIME:20260227T000000Z
CATEGORIES:Biblioteca Tast de Llibres
LOCATION:Biblioteca l'Escorxador - Pg. de la Rectoria Vella, 10
ORGANIZER:Biblioteca l'Escorxador
COMMENT:Preu: Gratuït
DESCRIPTION:Tast de llibres
URL:https://www.santceloni.cat/document.php?id=35133
END:VEVENT
END:VCALENDAR