BEGIN:VCALENDAR
VERSION:2.0
PRODID:-//Plone.org//NONSGML plone.app.event//EN
X-WR-TIMEZONE:Europe/Madrid
BEGIN:VEVENT
SUMMARY:Dedica'ns una estoneta i vine a donar sang a Can Ramis
DTSTART;TZID=Europe/Madrid;VALUE=DATE-TIME:20260130T100000
DTEND;TZID=Europe/Madrid;VALUE=DATE-TIME:20260130T110000
DTSTAMP;VALUE=DATE-TIME:20260422T132548Z
UID:58717fcab25ed9a8c43cf8dddc61b36c
CREATED;VALUE=DATE-TIME:20260130T000000Z
LOCATION:Can Ramis - Pl. de la Vila, 25
ORGANIZER:Associació de Donants de Sang del Vallès Oriental, Creu Roja, Banc de sang i teixits
COMMENT:Durada: De 10 a 14 i de 17 a 21 h
URL:https://www.santceloni.cat/document.php?id=35138
END:VEVENT
END:VCALENDAR