BEGIN:VCALENDAR
VERSION:2.0
PRODID:-//Plone.org//NONSGML plone.app.event//EN
X-WR-TIMEZONE:Europe/Madrid
BEGIN:VEVENT
SUMMARY:Xerrada: Què podem fer per prevenir el càncer
DTSTART;TZID=Europe/Madrid;VALUE=DATE-TIME:20081027T180000
DTEND;TZID=Europe/Madrid;VALUE=DATE-TIME:20081027T190000
DTSTAMP;VALUE=DATE-TIME:20260422T143830Z
UID:5d08e4ee0fa765b2f1c89d0e20f3df46
CREATED;VALUE=DATE-TIME:20081027T000000Z
CATEGORIES:Conferència
LOCATION:Sala d'actes rectoria Vella
ORGANIZER:Ajuntament de St. Celoni i Federació d'Entitats Contra el Càncer
DESCRIPTION:Xerrades de salut
URL:https://www.santceloni.cat/document.php?id=3521
END:VEVENT
END:VCALENDAR