BEGIN:VCALENDAR
VERSION:2.0
PRODID:-//Plone.org//NONSGML plone.app.event//EN
X-WR-TIMEZONE:Europe/Madrid
BEGIN:VEVENT
SUMMARY:21ena Cloenda del Curset de sardanes a les escoles a la plaça de la Vila
DTSTART;TZID=Europe/Madrid;VALUE=DATE-TIME:20260424T100000
DTEND;TZID=Europe/Madrid;VALUE=DATE-TIME:20260424T110000
DTSTAMP;VALUE=DATE-TIME:20260422T210035Z
UID:e95721b0cb5576a51a74725006c1c5a6
CREATED;VALUE=DATE-TIME:20260424T000000Z
LOCATION:Plaça de la Vila - Plaça de la Vila
COMMENT:Durada: de 10 a 12 h
DESCRIPTION:amb la Cobla Ciutat de Girona
URL:https://www.santceloni.cat/document.php?id=35444
END:VEVENT
END:VCALENDAR