BEGIN:VCALENDAR
VERSION:2.0
PRODID:-//Plone.org//NONSGML plone.app.event//EN
X-WR-TIMEZONE:Europe/Madrid
BEGIN:VEVENT
SUMMARY:Correfoc de la Força
DTSTART;TZID=Europe/Madrid;VALUE=DATE-TIME:20260425T203000
DTEND;TZID=Europe/Madrid;VALUE=DATE-TIME:20260425T213000
DTSTAMP;VALUE=DATE-TIME:20260422T003832Z
UID:393432fdec09f226f498fa030fc3ad03
CREATED;VALUE=DATE-TIME:20260425T000000Z
CATEGORIES:Cultura
LOCATION:Plaça del Bestiar - Plaça del Bestiar
ORGANIZER:Espurnes del Baix Montseny
URL:https://www.santceloni.cat/document.php?id=35455
END:VEVENT
END:VCALENDAR