BEGIN:VCALENDAR
VERSION:2.0
PRODID:-//Plone.org//NONSGML plone.app.event//EN
X-WR-TIMEZONE:Europe/Madrid
BEGIN:VEVENT
SUMMARY:Carpa informativa amb l'Equip de Govern a Sant Ponç i Pertegàs
DTSTART;TZID=Europe/Madrid;VALUE=DATE-TIME:20260420T170000
DTEND;TZID=Europe/Madrid;VALUE=DATE-TIME:20260420T180000
DTSTAMP;VALUE=DATE-TIME:20260420T195837Z
UID:8b4cc15379fc3ca7af456885c2983499
CREATED;VALUE=DATE-TIME:20260420T000000Z
CATEGORIES:Pla de Barris
LOCATION:Plaça Rafael Ferrer (Sant Ponç) - Plaça Rafael Ferrer (Sant Ponç)
COMMENT:Durada: De 17 a 20 h
DESCRIPTION:Vine a conèixer les actuacions previstes al teu barri!
URL:https://www.santceloni.cat/document.php?id=35462
END:VEVENT
END:VCALENDAR