BEGIN:VCALENDAR
VERSION:2.0
PRODID:-//Plone.org//NONSGML plone.app.event//EN
X-WR-TIMEZONE:Europe/Madrid
BEGIN:VEVENT
SUMMARY:Taller de les Arts, un matí de tallers i vermut musical organitzat pel col·lectiu Arpegi i la Biblioteca l'Escorxador
DTSTART;TZID=Europe/Madrid;VALUE=DATE-TIME:20260425T103000
DTEND;TZID=Europe/Madrid;VALUE=DATE-TIME:20260425T113000
DTSTAMP;VALUE=DATE-TIME:20260424T153210Z
UID:ad4b239ae0f3f28ed3346fb2397031b7
CREATED;VALUE=DATE-TIME:20260425T000000Z
CATEGORIES:Biblioteca Taller,Música
LOCATION:Plaça de la Biblioteca
ORGANIZER:Col·lectiu Arpegi i Biblioteca l'Escorxador
COMMENT:Preu: Gratuït
Durada: De 10.30 a 14 h
DESCRIPTION:Abril per la Llengua
URL:https://www.santceloni.cat/document.php?id=35465
END:VEVENT
END:VCALENDAR