BEGIN:VCALENDAR
VERSION:2.0
PRODID:-//Plone.org//NONSGML plone.app.event//EN
X-WR-TIMEZONE:Europe/Madrid
BEGIN:VEVENT
SUMMARY:Concert en Català de la Coral Briançó a la Rectoria Vella
DTSTART;TZID=Europe/Madrid;VALUE=DATE-TIME:20260422T193000
DTEND;TZID=Europe/Madrid;VALUE=DATE-TIME:20260422T203000
DTSTAMP;VALUE=DATE-TIME:20260421T134851Z
UID:d259bf2699e879da3be4a6a51befda56
CREATED;VALUE=DATE-TIME:20260422T000000Z
CATEGORIES:Català,Entitats,Participació
LOCATION:Rectoria Vella - Parc de la Rectoria Vella, s/n
ORGANIZER:Coral Briançó
DESCRIPTION:Abril per la Llengua
URL:https://www.santceloni.cat/document.php?id=35477
END:VEVENT
END:VCALENDAR