BEGIN:VCALENDAR
VERSION:2.0
PRODID:-//Plone.org//NONSGML plone.app.event//EN
X-WR-TIMEZONE:Europe/Madrid
BEGIN:VEVENT
SUMMARY:Vetllada poètica de Sant Jordi a la Clau
DTSTART;TZID=Europe/Madrid;VALUE=DATE-TIME:20260425T190000
DTEND;TZID=Europe/Madrid;VALUE=DATE-TIME:20260425T200000
DTSTAMP;VALUE=DATE-TIME:20260422T070213Z
UID:a0f7fe68d6772a84ce099f030dbc4ab5
CREATED;VALUE=DATE-TIME:20260425T000000Z
CATEGORIES:Català,Entitats,Participació
LOCATION:La Clau - c. Alguersuari, 16
ORGANIZER:Coral Briançó
DESCRIPTION:Abril per la Llengua
URL:https://www.santceloni.cat/document.php?id=35478
END:VEVENT
END:VCALENDAR