BEGIN:VCALENDAR
VERSION:2.0
PRODID:-//Plone.org//NONSGML plone.app.event//EN
X-WR-TIMEZONE:Europe/Madrid
BEGIN:VEVENT
SUMMARY:Acte de cloenda Abril per la llengua a la plaça de la Vila
DTSTART;TZID=Europe/Madrid;VALUE=DATE-TIME:20260425T203000
DTEND;TZID=Europe/Madrid;VALUE=DATE-TIME:20260425T213000
DTSTAMP;VALUE=DATE-TIME:20260422T125443Z
UID:f6ef3da3440c8fa925255641a1220f92
CREATED;VALUE=DATE-TIME:20260425T000000Z
CATEGORIES:Català,Entitats,Participació
LOCATION:Plaça de la Vila - Plaça de la Vila
COMMENT:Durada: De 18 a 20 h
DESCRIPTION:Abril per la Llengua
URL:https://www.santceloni.cat/document.php?id=35480
END:VEVENT
END:VCALENDAR