BEGIN:VCALENDAR
VERSION:2.0
PRODID:-//Plone.org//NONSGML plone.app.event//EN
X-WR-TIMEZONE:Europe/Madrid
BEGIN:VEVENT
SUMMARY:Taller de poesia - Dia de la visibilitat lesbiana
DTSTART;TZID=Europe/Madrid;VALUE=DATE-TIME:20260426T110000
DTEND;TZID=Europe/Madrid;VALUE=DATE-TIME:20260426T120000
DTSTAMP;VALUE=DATE-TIME:20260422T033333Z
UID:d8fc6dfd00a384dab83a190d2d7821dc
CREATED;VALUE=DATE-TIME:20260426T000000Z
CATEGORIES:Entitats,Participació
LOCATION:La Clau - c. Alguersuari, 16
ORGANIZER:La Vorera
COMMENT:Preu: Activitat gratuïta
DESCRIPTION:Conduit per Júlia Sentís
URL:https://www.santceloni.cat/document.php?id=35493
END:VEVENT
END:VCALENDAR