BEGIN:VCALENDAR
VERSION:2.0
PRODID:-//Plone.org//NONSGML plone.app.event//EN
X-WR-TIMEZONE:Europe/Madrid
BEGIN:VEVENT
SUMMARY:Taller d'escolta activa a càrrec de l'Associació Aurigues al Sax Sala
DTSTART;TZID=Europe/Madrid;VALUE=DATE-TIME:20260505T190000
DTEND;TZID=Europe/Madrid;VALUE=DATE-TIME:20260505T200000
DTSTAMP;VALUE=DATE-TIME:20260423T190056Z
UID:61500aad9bd2dc0a885ddcc517beef7f
CREATED;VALUE=DATE-TIME:20260505T000000Z
CATEGORIES:Entitats,Sax Sala
LOCATION:Sax Sala - Montserrat, 28
ORGANIZER:Associació Aurigues
COMMENT:Preu: Activitat gratuïta
Durada: De 19 a 21 h
URL:https://www.santceloni.cat/document.php?id=35496
END:VEVENT
END:VCALENDAR