BEGIN:VCALENDAR
VERSION:2.0
PRODID:-//Plone.org//NONSGML plone.app.event//EN
X-WR-TIMEZONE:Europe/Madrid
BEGIN:VEVENT
SUMMARY:Activitats del CESC 100 CIMS: Cims dels Ports de Tortosa &ndash; Beseit
DTSTART;TZID=Europe/Madrid;VALUE=DATE-TIME:20260501T000000
DTEND;TZID=Europe/Madrid;VALUE=DATE-TIME:20260501T010000
DTSTAMP;VALUE=DATE-TIME:20260423T235311Z
UID:f89b5ca4585bbd4c694222dacfab2896
CREATED;VALUE=DATE-TIME:20260501T000000Z
CATEGORIES:Esports,Natura
LOCATION:A determinar
ORGANIZER:Centre Excursionista de Sant Celoni
COMMENT:Preu: Allotjament hab. doble. 67&euro;/habitació/nit.
URL:https://www.santceloni.cat/document.php?id=35497
END:VEVENT
END:VCALENDAR