BEGIN:VCALENDAR
VERSION:2.0
PRODID:-//Plone.org//NONSGML plone.app.event//EN
X-WR-TIMEZONE:Europe/Madrid
BEGIN:VEVENT
SUMMARY:Caminada popular oberta a tothom organitzades pel CAP, l'Hospital i l'Ajuntament - Canvi d'horari
DTSTART;TZID=Europe/Madrid;VALUE=DATE-TIME:20260508T083000
DTEND;TZID=Europe/Madrid;VALUE=DATE-TIME:20260508T093000
DTSTAMP;VALUE=DATE-TIME:20260423T221839Z
UID:d795a5de595d90ad4d9571f54cdb5eda
CREATED;VALUE=DATE-TIME:20260508T000000Z
CATEGORIES:Esports
LOCATION:Centre Municipal d'Esports Sot de les Granotes - Francesc Macià, 15
ORGANIZER:CAP, Hospital i Ajuntament de Sant Celoni
COMMENT:Preu: Activitat gratuïta
Durada: de 8.30 a 10.30 h
URL:https://www.santceloni.cat/document.php?id=35498
END:VEVENT
END:VCALENDAR