BEGIN:VCALENDAR
VERSION:2.0
PRODID:-//Plone.org//NONSGML plone.app.event//EN
X-WR-TIMEZONE:Europe/Madrid
BEGIN:VEVENT
SUMMARY:Inauguració de l'Exposició Fotografies gastronòmiques, de Vivian Lyon, a la Biblioteca L'Escorxador
DTSTART;TZID=Europe/Madrid;VALUE=DATE-TIME:20260508T180000
DTEND;TZID=Europe/Madrid;VALUE=DATE-TIME:20260508T190000
DTSTAMP;VALUE=DATE-TIME:20260423T221541Z
UID:71b7e352a3857c72d1c30dc4b51d9cfa
CREATED;VALUE=DATE-TIME:20260508T000000Z
CATEGORIES:Exposició
LOCATION:Biblioteca l'Escorxador - Pg. de la Rectoria Vella, 10
COMMENT:Preu: Gratuït
Durada: Del 30 d'abril al 29 de maig
URL:https://www.santceloni.cat/document.php?id=35501
END:VEVENT
END:VCALENDAR