BEGIN:VCALENDAR
VERSION:2.0
PRODID:-//Plone.org//NONSGML plone.app.event//EN
X-WR-TIMEZONE:Europe/Madrid
BEGIN:VEVENT
SUMMARY:Taller Acompanyament en el Procés de morir a càrrec de l'Associació Aurigues al Sax Sala
DTSTART;TZID=Europe/Madrid;VALUE=DATE-TIME:20260512T190000
DTEND;TZID=Europe/Madrid;VALUE=DATE-TIME:20260512T200000
DTSTAMP;VALUE=DATE-TIME:20260423T203419Z
UID:8f59414cfea4e92013a041d24aa45f09
CREATED;VALUE=DATE-TIME:20260512T000000Z
CATEGORIES:Entitats,Formació,Salut,Sax Sala
LOCATION:Sax Sala - Montserrat, 28
ORGANIZER:Associació Aurigues
COMMENT:Preu: Gratuït
Durada: de 19 a 21 h
DESCRIPTION:Presència, amor i acompanyament en els últims moments de vida
URL:https://www.santceloni.cat/document.php?id=35509
END:VEVENT
END:VCALENDAR