BEGIN:VCALENDAR
VERSION:2.0
PRODID:-//Plone.org//NONSGML plone.app.event//EN
X-WR-TIMEZONE:Europe/Madrid
BEGIN:VEVENT
SUMMARY:Xerrada: El bosc, una metàfora de coneixement
DTSTART;TZID=Europe/Madrid;VALUE=DATE-TIME:20081104T203000
DTEND;TZID=Europe/Madrid;VALUE=DATE-TIME:20081104T213000
DTSTAMP;VALUE=DATE-TIME:20260423T055123Z
UID:bff80e44bfba4e1bb3ba016fe95cffbe
CREATED;VALUE=DATE-TIME:20081104T000000Z
CATEGORIES:Conferència
LOCATION:Sala d'actes rectoria Vella
ORGANIZER:Ajuntament de Sant Celoni
DESCRIPTION:a càrrec de Jorge Wagensberg
URL:https://www.santceloni.cat/document.php?id=3590
END:VEVENT
END:VCALENDAR