BEGIN:VCALENDAR
VERSION:2.0
PRODID:-//Plone.org//NONSGML plone.app.event//EN
X-WR-TIMEZONE:Europe/Madrid
BEGIN:VEVENT
SUMMARY:Sardanes
DTSTART;TZID=Europe/Madrid;VALUE=DATE-TIME:20081031T190000
DTEND;TZID=Europe/Madrid;VALUE=DATE-TIME:20081031T200000
DTSTAMP;VALUE=DATE-TIME:20260422T101037Z
UID:7f88e0e0b71e51ebabc82118d4eb2649
CREATED;VALUE=DATE-TIME:20081031T000000Z
CATEGORIES:Dansa
LOCATION:Plaça de la Vila
ORGANIZER:Agrupació Sardanista Baix Montseny
DESCRIPTION:amb la cobla Ciutat de Terrassa
URL:https://www.santceloni.cat/document.php?id=3599
END:VEVENT
END:VCALENDAR