BEGIN:VCALENDAR
VERSION:2.0
PRODID:-//Plone.org//NONSGML plone.app.event//EN
X-WR-TIMEZONE:Europe/Madrid
BEGIN:VEVENT
SUMMARY:Mercat solidari
DTSTART;TZID=Europe/Madrid;VALUE=DATE-TIME:20081101T103000
DTEND;TZID=Europe/Madrid;VALUE=DATE-TIME:20081101T113000
DTSTAMP;VALUE=DATE-TIME:20260422T161025Z
UID:4b2b00015a0f289816cd40a0582482f1
CREATED;VALUE=DATE-TIME:20081101T000000Z
LOCATION:Plaça Església
ORGANIZER:MontAnimal, protectora del Baix Montseny
COMMENT:Durada: fins a 2/4 de 9 del vespre
DESCRIPTION:en benefici dels animals abandonats
URL:https://www.santceloni.cat/document.php?id=3600
END:VEVENT
END:VCALENDAR