BEGIN:VCALENDAR
VERSION:2.0
PRODID:-//Plone.org//NONSGML plone.app.event//EN
X-WR-TIMEZONE:Europe/Madrid
BEGIN:VEVENT
SUMMARY:Presentació llibre La venjança del bandoler
DTSTART;TZID=Europe/Madrid;VALUE=DATE-TIME:20081204T193000
DTEND;TZID=Europe/Madrid;VALUE=DATE-TIME:20081204T203000
DTSTAMP;VALUE=DATE-TIME:20260421T143813Z
UID:1150d4013583419f904d9f7236e5cdbf
CREATED;VALUE=DATE-TIME:20081204T000000Z
CATEGORIES:Literatura
LOCATION:Sala petita de l'Ateneu - Sala_petita_de_l'Ateneu
ORGANIZER:Llibreria Alguer Set i Editorial Columna
COMMENT:Preu: Gratuït
DESCRIPTION:a càrrec de l'autor, Martí Gironell
URL:https://www.santceloni.cat/document.php?id=3668
END:VEVENT
END:VCALENDAR