BEGIN:VCALENDAR
VERSION:2.0
PRODID:-//Plone.org//NONSGML plone.app.event//EN
X-WR-TIMEZONE:Europe/Madrid
BEGIN:VEVENT
SUMMARY:Concert: Obrint Pas, Answer i Skafam
DTSTART;TZID=Europe/Madrid;VALUE=DATE-TIME:20081129T213000
DTEND;TZID=Europe/Madrid;VALUE=DATE-TIME:20081129T223000
DTSTAMP;VALUE=DATE-TIME:20260422T021620Z
UID:db86313065ec66c6763b6a035efe62ad
CREATED;VALUE=DATE-TIME:20081129T000000Z
CATEGORIES:Festa,Música
LOCATION:Pavelló Municipal d'Esports
ORGANIZER:Casal Popular i Independentista Quico Sabaté
COMMENT:Preu: 8 &euro;
DESCRIPTION:8è aniversari del Casal Quico Sabaté
URL:https://www.santceloni.cat/document.php?id=3682
END:VEVENT
END:VCALENDAR