BEGIN:VCALENDAR
VERSION:2.0
PRODID:-//Plone.org//NONSGML plone.app.event//EN
X-WR-TIMEZONE:Europe/Madrid
BEGIN:VEVENT
SUMMARY:Teatre: El cafè de la granota
DTSTART;TZID=Europe/Madrid;VALUE=DATE-TIME:20081129T220000
DTEND;TZID=Europe/Madrid;VALUE=DATE-TIME:20081129T230000
DTSTAMP;VALUE=DATE-TIME:20260421T224244Z
UID:0b6c315c16bb1082d6944c59bea287a7
CREATED;VALUE=DATE-TIME:20081129T000000Z
CATEGORIES:Teatre
LOCATION:Sala petita de l'Ateneu
ORGANIZER:Associació de Dones Progressistes del Baix Montseny
COMMENT:Preu: 10 &euro;
DESCRIPTION:a càrrec del grup Trocateatre
URL:https://www.santceloni.cat/document.php?id=3685
END:VEVENT
END:VCALENDAR