BEGIN:VCALENDAR
VERSION:2.0
PRODID:-//Plone.org//NONSGML plone.app.event//EN
X-WR-TIMEZONE:Europe/Madrid
BEGIN:VEVENT
SUMMARY:Espectacle de dansa a càrrec de l'Escola d'Esther Cortés
DTSTART;TZID=Europe/Madrid;VALUE=DATE-TIME:20081130T170000
DTEND;TZID=Europe/Madrid;VALUE=DATE-TIME:20081130T180000
DTSTAMP;VALUE=DATE-TIME:20260421T211849Z
UID:72bc48d07b3735a620486a37874f48e4
CREATED;VALUE=DATE-TIME:20081130T000000Z
CATEGORIES:Dansa
LOCATION:Sala gran de l'Ateneu
COMMENT:Preu: 7 &euro;
DESCRIPTION:a benefici de la F. Oncològica Girona/Breda i l'As. Neurològica Amics Baix Montseny
URL:https://www.santceloni.cat/document.php?id=3688
END:VEVENT
END:VCALENDAR