BEGIN:VCALENDAR
VERSION:2.0
PRODID:-//Plone.org//NONSGML plone.app.event//EN
X-WR-TIMEZONE:Europe/Madrid
BEGIN:VEVENT
SUMMARY:Presentació de Tancat per mancances, darrer llibre de Pau Gener Galín
DTSTART;TZID=Europe/Madrid;VALUE=DATE-TIME:20081129T200300
DTEND;TZID=Europe/Madrid;VALUE=DATE-TIME:20081129T210300
DTSTAMP;VALUE=DATE-TIME:20260422T054116Z
UID:379513f52aab78e0b3f4e0a010da661c
CREATED;VALUE=DATE-TIME:20081129T000000Z
CATEGORIES:Literatura
LOCATION:Llibreria Els 4 Gats
COMMENT:Preu: graqtuït
DESCRIPTION:A la llibreria Els 4 gats
URL:https://www.santceloni.cat/document.php?id=3718
END:VEVENT
END:VCALENDAR