BEGIN:VCALENDAR
VERSION:2.0
PRODID:-//Plone.org//NONSGML plone.app.event//EN
X-WR-TIMEZONE:Europe/Madrid
BEGIN:VEVENT
SUMMARY:Exposició: De la boira i els arbres, de VM Ripoll Arias
DTSTART;TZID=Europe/Madrid;VALUE=DATE-TIME:20081129T190000
DTEND;TZID=Europe/Madrid;VALUE=DATE-TIME:20081129T200000
DTSTAMP;VALUE=DATE-TIME:20260421T180913Z
UID:8fa8dcb8fa31898a9abaeab0466b4626
CREATED;VALUE=DATE-TIME:20081129T000000Z
CATEGORIES:Exposició
LOCATION:Rectoria Vella - espaismunicipalssantceloni2
DESCRIPTION:a la Rectoria Vella, fins l'11 de gener
URL:https://www.santceloni.cat/document.php?id=3760
END:VEVENT
END:VCALENDAR