BEGIN:VCALENDAR
VERSION:2.0
PRODID:-//Plone.org//NONSGML plone.app.event//EN
X-WR-TIMEZONE:Europe/Madrid
BEGIN:VEVENT
SUMMARY:Exposició: Olis, de Mercè Montané, i Newyorkers, de Núria Mañé
DTSTART;TZID=Europe/Madrid;VALUE=DATE-TIME:20081129T180000
DTEND;TZID=Europe/Madrid;VALUE=DATE-TIME:20081129T190000
DTSTAMP;VALUE=DATE-TIME:20260422T045529Z
UID:9251b3401e1726604629d219166ca41c
CREATED;VALUE=DATE-TIME:20081129T000000Z
CATEGORIES:Exposició
LOCATION:Can Ramis - Plaça de la Vila, 25
DESCRIPTION:a Can Ramis, fins el 14 de desembre
URL:https://www.santceloni.cat/document.php?id=3761
END:VEVENT
END:VCALENDAR