BEGIN:VCALENDAR
VERSION:2.0
PRODID:-//Plone.org//NONSGML plone.app.event//EN
X-WR-TIMEZONE:Europe/Madrid
BEGIN:VEVENT
SUMMARY:Funny games (Jocs divertits), de Michael Haneke
DTSTART;TZID=Europe/Madrid;VALUE=DATE-TIME:20090130T210000
DTEND;TZID=Europe/Madrid;VALUE=DATE-TIME:20090130T220000
DTSTAMP;VALUE=DATE-TIME:20260422T054037Z
UID:d1b146f37cd821c2d94f1c2224ada6fa
CREATED;VALUE=DATE-TIME:20090130T000000Z
CATEGORIES:Cinema
LOCATION:Sala petita de l'Ateneu - Espais_Sant_Celoni_23
COMMENT:Preu: gratuït
DESCRIPTION:III Cicle de Cinema comentat
URL:https://www.santceloni.cat/document.php?id=3887
END:VEVENT
END:VCALENDAR